Workbook
Name 경력구분: #REF!
Name 경력구분: #REF!
Name 경력구분: #REF!
Name 경력구분: #REF!
Name 구사능력: #REF!
Name 구사능력: #REF!
Name 구사능력: #REF!
Name 구사능력: #REF!
Name 병력사항: #REF!
Name 병력사항: #REF!
Name 병력사항: #REF!
Name 병력사항: #REF!
Name 병역사항: #REF!
Name 병역사항: #REF!
Name 병역사항: #REF!
Name 병역사항: #REF!
Name 생일: [1]ID!$A$1:$A$3
Name 생일: [1]ID!$A$1:$A$3
Name 생일: [1]ID!$A$1:$A$3
Name 생일: [2]ID!$A$1:$A$3
Name 세부영역목록: _xlfn._xlws.FILTER('(참고 1.) 국가과학기술표준분류체계'!XET:XET, '(참고 1.) 국가과학기술표준분류체계'!XES:XES=INDIRECT("N"&ROW()))
Name 중분류목록: _xlfn._xlws.FILTER('(참고 1.) 국가과학기술표준분류체계'!XES:XES, '(참고 1.) 국가과학기술표준분류체계'!XER:XER=INDIRECT("G"&ROW()))
Name 직급: #REF!
Name 직급: #REF!
Name 직급: #REF!
Name 직급: #REF!
Name 채용구분: #REF!
Name 채용구분: #REF!
Name 채용구분: #REF!
Name 채용구분: #REF!

Sheet (양식 1.) 후보자 등록신청서
C3: 국가과학기술연구회 평가위원 후보자 등록신청서 | AV3: {=_xlfn.UNIQUE('(참고 1.) 국가과학기술표준분류체계'!A2:A5000)} -> NA. 수학
AV4: NB. 물리학
AV5: NC. 화학
AV6: ND. 지구과학(지구/대기/해양/천문)
C7: 성 명 | E7: 홍길동 | AV7: LA. 생명과학
C8: 생 년 월 일 | E8: 19600813 | F8: ="만 " & DATEDIF(DATE(LEFT(E8&"",4), MID(E8&"",5,2), RIGHT(E8&"",2)), TODAY(), "Y") & "세" -> 만 65세 | AV8: LB. 농림수산식품
C9: 성 별 | E9: 남 | F9: 소 속 | G9: OO연구원 | AV9: LC. 보건의료
C10: e-mail | E10: abc@nst.re.kr | F10: 직 급 | G10: OO본부 센터장 | AV10: EA. 기계
C11: 휴 대 폰 | E11: 010-1234-5678 | F11: 직 위 | G11: 연구위원 | AV11: EB. 재료
AV12: EC. 화공
AV13: ED. 전기/전자
C14: 학 력 사 항 | D14: 학 위 | E14: 학교명 | F14: 전공 | G14: 세부전공 | AV14: EE. 정보/통신
D15: 학 사 | E15: 한국대 | F15: 전기공학 | AV15: EF. 에너지/자원
D16: 석 사 | E16: 한국대 | F16: 전기공학 | AV16: EG. 원자력
D17: 박 사 | E17: (미)펜실베니아 주립대 | F17: 시스템공학 | G17: 시스템최적화 및 데이터분석 | AV17: EH. 환경
C18: 전 문 분 야 ※국가과학기술표준 분류체계 기준 | D18: 대분류 | E18: 중분류 | F18: 세부영역 | G18: 연구분야(직접 기입) | AV18: EI. 건설/교통
D19: NC. 화학 | E19: NC02 유기화학 | F19: NC0299. 달리 분류되지 않는 유기화학 | G19: 유기 반도체 고분자 | AV19: HF. 인문학 | AW19: {=IF(D19="","", _xlfn.UNIQUE(_xlfn._xlws.FILTER('(참고 1.) 국가과학기술표준분류체계'!B2:B5000, '(참고 1.) 국가과학기술표준분류체계'!A2:A5000=D19)))} -> NC01 물리화학 | AX19: {=IF(E19="","", _xlfn.UNIQUE(_xlfn._xlws.FILTER('(참고 1.) 국가과학기술표준분류체계'!C2:C5000, '(참고 1.) 국가과학기술표준분류체계'!B2:B5000=E19)))} -> NC0201. 천연물화학
D20: NB. 물리학 | E20: NB03 핵물리 | F20: NB0301. 핵구조 | AV20: HG. 사회과학 | AW20: NC02 유기화학 | AX20: NC0202. 유기합성/전합성 | AY20: {=IF(D20="","", _xlfn.UNIQUE(_xlfn._xlws.FILTER('(참고 1.) 국가과학기술표준분류체계'!B2:B5000, '(참고 1.) 국가과학기술표준분류체계'!A2:A5000=D20)))} -> NB01 입자/장물리 | AZ20: {=IF(E20="","", _xlfn.UNIQUE(_xlfn._xlws.FILTER('(참고 1.) 국가과학기술표준분류체계'!C2:C5000, '(참고 1.) 국가과학기술표준분류체계'!B2:B5000=E20)))} -> NB0301. 핵구조
D21: LA. 생명과학 | E21: LA01 분자세포생물학 | F21: LA0101. 신호전달 | AV21: HH. 문화예술체육학 | AW21: NC03 무기화학 | AX21: NC0203. 유기합성방법론 | AY21: NB02 통계물리 | AZ21: NB0302. 핵반응/산란 | BA21: {=IF(D21="","", _xlfn.UNIQUE(_xlfn._xlws.FILTER('(참고 1.) 국가과학기술표준분류체계'!B2:B5000, '(참고 1.) 국가과학기술표준분류체계'!A2:A5000=D21)))} -> LA01 분자세포생물학 | BB21: {=IF(E21="","", _xlfn.UNIQUE(_xlfn._xlws.FILTER('(참고 1.) 국가과학기술표준분류체계'!C2:C5000, '(참고 1.) 국가과학기술표준분류체계'!B2:B5000=E21)))} -> LA0101. 신호전달
C22: 주 요 경 력 | D22: 구 분 | E22: 기간 | F22: 소속 및 직위 | AV22: OA. 뇌과학 | AW22: NC04 분석화학 | AX22: NC0204. 이론/물리 유기화학 | AY22: NB03 핵물리 | AZ22: NB0303. 강입자 물리 | BA22: LA02 유전학·유전체학 | BB22: LA0102. 세포구조/운동
D23: 대표 경력 (3개 이내) | E23: 12.01. ~ '15.07. | F23: OO전자 선임연구원 | AV23: OB. 인지/감성과학 | AW23: NC05 고분자화학 | AX23: NC0205. 유기초분자화학 | AY23: NB04 유체·플라즈마물리 | AZ23: NB0304. 고에너지 중이온 반응 | BA23: LA03 발생/신경생물학 | BB23: LA0103. 세포분화/사멸
AV24: OC. 과학기술과 인문사회 | AW24: NC06 생화학 | AX24: NC0206. 유기금속시약화학 | AY24: NB05 광학·양자전자학 | AZ24: NB0305. 원자핵 데이터 | BA24: LA04 면역학/생리학 | BB24: LA0104. 막 생물학
AV25: 0 | AW25: NC07 광화학 | AX25: NC0207. 생유기화학 | AY25: NB06 응집물질물리 | AZ25: NB0399. 달리 분류되지 않는 핵물리 | BA25: LA05 분류/생태/환경생물학 | BB25: LA0105. 유전자 발현조절
D26: 출연(연) 근무경력 ※NST 소관기관 | E26: 15.06 ~ '19.12. | F26: 한국과학기술연구원 | G26: 연구위원 | AW26: NC08 전기화학 | AX26: NC0208. 의약/조합 화학 | AY26: NB07 원자/분자물리 | BA26: LA06 생화학/구조생물학 | BB26: LA0199. 달리 분류되지 않는 분자세포생물학
E27: 13.05 ~ '15.05 | F27: 한국과학기술연구원 | G27: 책임연구원 | AW27: NC09 재료화학 | AX27: NC0209. 유기재료화학 | AY27: NB08 천체물리 | BA27: LA07 융합바이오
D28: 주요 저서 및 논문 | E28: 홍길동, 「유기 반도체 고분자의 전하 이동 특성 연구」, 2023 | AW28: NC10 융합화학 | AX28: NC0210. 유화학 | AY28: NB09 복합물리 | BA28: LA08 생물공학
AW29: NC99 기타 화학 | AX29: NC0299. 달리 분류되지 않는 유기화학 | AY29: NB99 기타 물리학 | BA29: LA09 산업바이오
C30: 평 가 경 력 | D30: 구 분 | E30: 참 여 내 역 | BA30: LA11 생물위해성
D31: 기관평가 수행경력 (3개 이내) | E31: 20.01. ~ '22.11. | F31: 공기업·준정부기관 경영평가 평가위원 | BA31: LA99 기타 생명과학
E32: 26.01. ~ '26.04. | F32: 국가과학기술연구회 소관연구기관 기관평가 평가위원
E33: 24.10. ~ '25.03. | F33: 한국전자통신연구원 연구사업평가 위원

Sheet (양식 2.) 후보자 자가진단 체크리스트
C3: 평가위원 후보자 자가진단 체크리스트 | CHD3: {=_xlfn.UNIQUE('(참고 1.) 국가과학기술표준분류체계'!A2:A5000)} -> NA. 수학 | CHE3: {=IFERROR(_xlfn.UNIQUE(_xlfn._xlws.FILTER('(참고 1.) 국가과학기술표준분류체계'!B2:B5000, TRIM('(참고 1.) 국가과학기술표준분류체계'!A2:A5000)=TRIM(H9))), "")} -> 0 | CHF3: {=IFERROR(_xlfn.UNIQUE(_xlfn._xlws.FILTER('(참고 1.) 국가과학기술표준분류체계'!C2:C5000, TRIM('(참고 1.) 국가과학기술표준분류체계'!B2:B5000)=TRIM(O9))), "")} -> 0
CHD4: NB. 물리학
CHD5: NC. 화학
F6: [평가위원 자격기준] | CHD6: ND. 지구과학(지구/대기/해양/천문)
F7: ○ 해당 분야 실무경력 15년 이상의 전문가 ○ 해당 분야 연구개발경력 10년 이상의 전문가 ○ 대학의 조교수 이상 전문가 ○ 해당 분야 기업의 부장급 이상 전문가 ○ 과학기술 관련 민간단체 경력 5년 이상의 전문가 ○ 기타 상기와 동등한 수준의 경력을 가진 전문가 | CHD7: LA. 생명과학
CHD8: LB. 농림수산식품
CHD9: LC. 보건의료
CHD10: EA. 기계
F11: [평가위원 자가진단 체크리스트] | Z11: [응답] | CHD11: EB. 재료
F12: ※ '평가 대상기관'은 연구회(nst) 소관 23개 출연(연)을 의미함 | CHD12: EC. 화공
CHD13: ED. 전기/전자
F14: ○ 국가 R&D사업에 대해 현재 참여 제한 조치를 받고 있습니까? | CHD14: EE. 정보/통신
CHD15: EF. 에너지/자원
F16: ○ 최근 3년 이내에 소속기관에서 중징계를 받은 사례가 있습니까? | CHD16: EG. 원자력
CHD17: EH. 환경
F18: ○ 불성실･불공정한 평가경력이 있습니까? | CHD18: EI. 건설/교통
CHD19: HF. 인문학
F20: ○ 평가 대상기간 중 상위평가 수행지원기관의 평가담당부서 직원입니까? | CHD20: HG. 사회과학
CHD21: HH. 문화예술체육학
F22: ○ 과거 평가 대상기관에 근무한 경력(최근 3년 이내에 1년 이상)이 있습니까? | CHD22: OA. 뇌과학
H23: ("예" 응답 시) 근무한 기관명 및 근무기간을 작성하여 주십시오. | CHD23: OB. 인지/감성과학
CHD24: OC. 과학기술과 인문사회
H25: * 예시 ('24.03. ~ '25.12.) OOOO연구원, 연구위원 | CHD25: 0
F28: ○ 최근 3년 이내에 평가대상 기관의 겸임연구원, 연구연가 또는 파견근무 경력이 있습니까?
H29: ("예" 응답 시) 해당 기관명, 수행업무 및 근무기간을 작성하여 주십시오.
H31: * 예시 ('24.03. ~ '25.12.) OOOO연구원, 연구위원, 연구과제 수행
F34: ○ 가족(직계존비속 및 배우자) 구성원이 평가대상 기관에 근무하고 있습니까?
H35: ("예" 응답 시) 해당 기관명 및 관계를 작성하여 주십시오.
H37: * 예시 OOOO연구원, 연구위원, 배우자
F40: ○ 그 밖에 평가의 공정성을 중대하게 해할 염려가 있습니까?
R43: 성 명

Sheet (양식 3.) 개인정보 수집 및 이용 동의서
C3: 개인정보 수집 및 이용 동의서 | CHC3: {=_xlfn.UNIQUE('(참고 1.) 국가과학기술표준분류체계'!A2:A5000)} -> NA. 수학 | CHD3: {=IFERROR(_xlfn.UNIQUE(_xlfn._xlws.FILTER('(참고 1.) 국가과학기술표준분류체계'!B2:B5000, TRIM('(참고 1.) 국가과학기술표준분류체계'!A2:A5000)=TRIM(H22))), "")} -> 0 | CHE3: {=IFERROR(_xlfn.UNIQUE(_xlfn._xlws.FILTER('(참고 1.) 국가과학기술표준분류체계'!C2:C5000, TRIM('(참고 1.) 국가과학기술표준분류체계'!B2:B5000)=TRIM(O22))), "")} -> 0
CHC4: NB. 물리학
CHC5: NC. 화학
CHC6: ND. 지구과학(지구/대기/해양/천문)
E7: 국가과학기술연구회(NST)에서는 기관평가 평가위원 후보자로 신청하기 위해 다음과 같은 개인정보를 수집·이용합니다. | CHC7: LA. 생명과학
CHC8: LB. 농림수산식품
CHC9: LC. 보건의료
CHC10: EA. 기계
E11: 1. 개인정보 수집 대상 - 국가과학기술연구회 기관평가 평가위원 후보자 공모 신청자 2. 개인정보 수집·이용목적 - 국가과학기술연구회에서 실시하는 소관연구기관 기관평가 평가위원 후보자 공모에 필요한 개인정보를 수집 3. 개인정보 수집항목 - 성명, 성별, 생년월일, 소속, 직급, 직위, 연락처(사무실 전화번호, 휴대폰 번호, e-mail), 학력, 대표 경력, 전문분야 4. 개인정보의 보유 및 이용기간 - 신청자의 개인정보 수집이용에 관한 동의일로부터 3년간 위 이용 목적을 위하여 보유 및 이용하게 됩니다. 5. 동의 거부 및 동의 거부 시의 불이익 내용 - 개인정보 수집 동의를 거부하실 수 있습니다. - 다만, 동의하지 않을 경우 국가과학기술연구회 기관평가 평가위원 후보에서 제외됩니다. | CHC11: EB. 재료
CHC12: EC. 화공
CHC13: ED. 전기/전자
CHC14: EE. 정보/통신
CHC15: EF. 에너지/자원
CHC16: EG. 원자력
CHC17: EH. 환경
CHC18: EI. 건설/교통
CHC19: HF. 인문학
CHC20: HG. 사회과학
CHC21: HH. 문화예술체육학
CHC22: OA. 뇌과학
CHC23: OB. 인지/감성과학
E24: ※ 본 개인정보는 국가과학기술연구회 소관연구기관 기관평가 평가위원 후보자로 모집하는 목적 이외의 다른 목적으로사용하지 않습니다. | CHC24: OC. 과학기술과 인문사회
CHC25: 0
F27: 개인정보 수집 및 이용에 동의하십니까? | T27: 동의함 / 동의하지 않음
F29: 성 명 : | M29: (서명)

Sheet (참고 1.) 국가과학기술표준분류체계
A1: 대분류 | B1: 중분류 | C1: 세부영역
A2: NA. 수학 | B2: NA01 대수학 | C2: NA0101. 선형대수
A3: NA. 수학 | B3: NA01 대수학 | C3: NA0102. 수리논리학/집합론
A4: NA. 수학 | B4: NA01 대수학 | C4: NA0103. 수론
A5: NA. 수학 | B5: NA01 대수학 | C5: NA0104. 군/표현
A6: NA. 수학 | B6: NA01 대수학 | C6: NA0105. 대수기하/가환환
A7: NA. 수학 | B7: NA01 대수학 | C7: NA0106. 결합환
A8: NA. 수학 | B8: NA01 대수학 | C8: NA0107. 리대수/비결합환
A9: NA. 수학 | B9: NA01 대수학 | C9: NA0199. 달리 분류되지 않는 대수학
A10: NA. 수학 | B10: NA02 해석학 | C10: NA0201. 고전/조화해석
A11: NA. 수학 | B11: NA02 해석학 | C11: NA0202. 복소해석
A12: NA. 수학 | B12: NA02 해석학 | C12: NA0203. 함수해석
... A2801: OC. 과학기술과 인문사회 | B2801: OC99 기타 과학기술과 인문사회 | C2801: OC9999. 달리 분류되지 않는 과학기술과 인문사회

Sheet DB
A1: 성명 | B1: 생년 | C1: 나이 | D1: 성별 | E1: 소속 | F1: 직급 | G1: 직위 | H1: 학사학위 | I1: 학사전공 | J1: 석사학위 | K1: 석사전공 | L1: 박사학위 | M1: 박사전공 | N1: 박사세부전공 | O1: 주요경력1-기간 | P1: 주요경력1-내용 | Q1: 주요경력2-기간 | R1: 주요경력2-내용 | S1: 주요경력3-기간 | T1: 주요경력3-내용 | U1: 출연연경력1-기간 | V1: 출연연경력1-기관명 | W1: 출연연경력1-직위 | X1: 출연연경력2-기간 | Y1: 출연연경력2-기관명 | Z1: 출연연경력2-직위 | AA1: 전문분야1 | AB1: 직접기입1 | AC1: 전문분야2 | AD1: 직접기입2 | AE1: 전문분야3 | AF1: 직접기입3 | AG1: E-mail | AH1: 휴대폰 번호 | AI1: 평가경력1-기간 | AJ1: 평가경력1-내용 | AK1: 평가경력2-기간 | AL1: 평가경력2-내용 | AM1: 평가경력3-기간 | AN1: 평가경력3-내용
A2: ='0.후보자 등록신청서'!E7 | B2: ='(양식 1.) 후보자 등록신청서'!E8 -> 19600813 | C2: ='(양식 1.) 후보자 등록신청서'!F8 -> 만 65세 | D2: ='(양식 1.) 후보자 등록신청서'!E9 -> 남 | E2: ='(양식 1.) 후보자 등록신청서'!G9 -> OO연구원 | F2: ='(양식 1.) 후보자 등록신청서'!G10 -> OO본부 센터장 | G2: ='(양식 1.) 후보자 등록신청서'!G11 -> 연구위원 | H2: ='(양식 1.) 후보자 등록신청서'!E15 -> 한국대 | I2: ='(양식 1.) 후보자 등록신청서'!F15 -> 전기공학 | J2: ='(양식 1.) 후보자 등록신청서'!E16 -> 한국대 | K2: ='(양식 1.) 후보자 등록신청서'!F16 -> 전기공학 | L2: ='(양식 1.) 후보자 등록신청서'!E17 -> (미)펜실베니아 주립대 | M2: ='(양식 1.) 후보자 등록신청서'!F17 -> 시스템공학 | N2: ='(양식 1.) 후보자 등록신청서'!G17 -> 시스템최적화 및 데이터분석 | O2: ='(양식 1.) 후보자 등록신청서'!E23 -> 12.01. ~ '15.07. | P2: ='(양식 1.) 후보자 등록신청서'!F23 -> OO전자 선임연구원 | Q2: ='(양식 1.) 후보자 등록신청서'!E24 -> 0 | R2: ='(양식 1.) 후보자 등록신청서'!F24 -> 0 | S2: ='(양식 1.) 후보자 등록신청서'!E25 -> 0 | T2: ='(양식 1.) 후보자 등록신청서'!F25 -> 0 | U2: ='(양식 1.) 후보자 등록신청서'!E26 -> 15.06 ~ '19.12. | V2: ='(양식 1.) 후보자 등록신청서'!F26 -> 한국과학기술연구원 | W2: ='(양식 1.) 후보자 등록신청서'!G26 -> 연구위원 | X2: ='(양식 1.) 후보자 등록신청서'!E27 -> 13.05 ~ '15.05 | Y2: ='(양식 1.) 후보자 등록신청서'!F27 -> 한국과학기술연구원 | Z2: ='(양식 1.) 후보자 등록신청서'!G27 -> 책임연구원 | AA2: ='(양식 1.) 후보자 등록신청서'!F19 -> NC0299. 달리 분류되지 않는 유기화학 | AB2: ='(양식 1.) 후보자 등록신청서'!G19 -> 유기 반도체 고분자 | AC2: ='(양식 1.) 후보자 등록신청서'!F20 -> NB0301. 핵구조 | AD2: ='(양식 1.) 후보자 등록신청서'!G20 -> 0 | AE2: ='(양식 1.) 후보자 등록신청서'!F21 -> LA0101. 신호전달 | AF2: ='(양식 1.) 후보자 등록신청서'!G21 -> 0 | AG2: ='(양식 1.) 후보자 등록신청서'!E10 -> abc@nst.re.kr | AH2: ='(양식 1.) 후보자 등록신청서'!E11 -> 010-1234-5678 | AI2: ='(양식 1.) 후보자 등록신청서'!E31 -> 20.01. ~ '22.11. | AJ2: ='(양식 1.) 후보자 등록신청서'!F31 -> 공기업·준정부기관 경영평가 평가위원 | AK2: ='(양식 1.) 후보자 등록신청서'!E32 -> 26.01. ~ '26.04. | AL2: ='(양식 1.) 후보자 등록신청서'!F32 -> 국가과학기술연구회 소관연구기관 기관평가 평가위원 | AM2: ='(양식 1.) 후보자 등록신청서'!E33 -> 24.10. ~ '25.03. | AN2: ='(양식 1.) 후보자 등록신청서'!F33 -> 한국전자통신연구원 연구사업평가 위원
