Workbook

Sheet Sheet1
A1: 2024 춘계학술발표회 단체신청 양식
A3: ▣ 신청기관명 :
A4: ★ 본 학회는 회원구분에 따라 등록비에 차등이 있사오니 반드시 학회 사무국에 확인 후 입금해 주시기 바랍니다.
A5: No | B5: 성명 | C5: 소속부서 | D5: 이메일 | E5: 핸드폰번호 | F5: 회원구분 | G5: Workshop I (5.29) | O5: Workshop II (5.30) | U5: Workshop Ⅲ (5.31) | X5: 2024 춘계학술발표회 (5.29~31) | AB5: 전체 등록비 소계
G6: A | H6: B | I6: C | J6: D | K6: E | L6: 식사여부 | M6: 참가유형 | N6: 등록비 | O6: F | P6: G | Q6: H | R6: 식사여부 | S6: 참가유형 | T6: 등록비 | U6: I | V6: 참가유형 | W6: 등록비 | X6: 참가유형 | Y6: 사전/일반 | Z6: 식사여부 | AA6: 등록비
G7: 사용후핵연료 안전관리를 위한 추진방안 | H7: 원전해체사업의 효율적 수행을 위한 준비현황 및 계획 | I7: 해양방사능 모니터링 기술현황 및 발전 방향 | J7: 원전해체 핵종분석 기술개발 및 기반 구축사업 연구현황 및 추진전략 | K7: KRS-KORAD International Workshop on High Level Waste Management | L7: Reception (5.29) | O7: KNMM&KRS Joint Workshop - 원자력 수출국 도약을 위한 국가 차원의 핵주기 역량 강화 방안 | P7: 중·저준위방폐물의 처분적합성 만족을 위한 처리기술 개발 현황 | Q7: 고준위폐기물 심층처분을 위한 수용성 증진방안 | R7: Lunch (5.30) | U7: KNMM-KRS Joint Workshop on Additional Protocol (AP) Declarations | Z7: 만찬 (5.30)
A8: 1 | AB8: =N8+T8+AA8 -> 0
A9: 2 | AB9: =N9+T9+AA9 -> 0
A10: 3 | AB10: =N10+T10+AA10 -> 0
A11: 4 | AB11: =N11+T11+AA11 -> 0
A12: 5 | AB12: =N12+T12+AA12 -> 0
A13: 6 | AB13: =N13+T13+AA13 -> 0
A14: 7 | AB14: =N14+T14+AA14 -> 0
A15: 8 | AB15: =N15+T15+AA15 -> 0
A16: 9 | N16: =VLOOKUP(F16,Sheet2!$A$5:$D$9,4,0)*COUNTIF($G$8:$I$8,"O") -> #N/A | T16: =VLOOKUP(F16,Sheet2!$A$5:$E$9,5,0)*COUNTIF($O$8:$P$8,"O") -> #N/A | W16: =VLOOKUP(J16,Sheet2!$A$5:$E$9,5,0)*COUNTIF($O$8:$P$8,"O") -> #N/A | AA16: =VLOOKUP(F16,Sheet2!$A$5:$H$10,8,0)*COUNTA(X16) -> #N/A | AB16: =N16+T16+AA16 -> #N/A
A17: 10 | N17: =VLOOKUP(F17,Sheet2!$A$5:$D$9,4,0)*COUNTIF($G$8:$I$8,"O") -> #N/A | T17: =VLOOKUP(F17,Sheet2!$A$5:$E$9,5,0)*COUNTIF($O$8:$P$8,"O") -> #N/A | W17: =VLOOKUP(J17,Sheet2!$A$5:$E$9,5,0)*COUNTIF($O$8:$P$8,"O") -> #N/A | AA17: =VLOOKUP(F17,Sheet2!$A$5:$H$10,8,0)*COUNTA(X17) -> #N/A | AB17: =N17+T17+AA17 -> #N/A
A18: 11 | N18: =VLOOKUP(F18,Sheet2!$A$5:$D$9,4,0)*COUNTIF($G$8:$I$8,"O") -> #N/A | T18: =VLOOKUP(F18,Sheet2!$A$5:$E$9,5,0)*COUNTIF($O$8:$P$8,"O") -> #N/A | W18: =VLOOKUP(J18,Sheet2!$A$5:$E$9,5,0)*COUNTIF($O$8:$P$8,"O") -> #N/A | AA18: =VLOOKUP(F18,Sheet2!$A$5:$H$10,8,0)*COUNTA(X18) -> #N/A | AB18: =N18+T18+AA18 -> #N/A
A19: 12 | N19: =VLOOKUP(F19,Sheet2!$A$5:$D$9,4,0)*COUNTIF($G$8:$I$8,"O") -> #N/A | T19: =VLOOKUP(F19,Sheet2!$A$5:$E$9,5,0)*COUNTIF($O$8:$P$8,"O") -> #N/A | W19: =VLOOKUP(J19,Sheet2!$A$5:$E$9,5,0)*COUNTIF($O$8:$P$8,"O") -> #N/A | AA19: =VLOOKUP(F19,Sheet2!$A$5:$H$10,8,0)*COUNTA(X19) -> #N/A | AB19: =N19+T19+AA19 -> #N/A
A20: 13 | N20: =VLOOKUP(F20,Sheet2!$A$5:$D$9,4,0)*COUNTIF($G$8:$I$8,"O") -> #N/A | T20: =VLOOKUP(F20,Sheet2!$A$5:$E$9,5,0)*COUNTIF($O$8:$P$8,"O") -> #N/A | W20: =VLOOKUP(J20,Sheet2!$A$5:$E$9,5,0)*COUNTIF($O$8:$P$8,"O") -> #N/A | AA20: =VLOOKUP(F20,Sheet2!$A$5:$H$10,8,0)*COUNTA(X20) -> #N/A | AB20: =N20+T20+AA20 -> #N/A
A21: 14 | N21: =VLOOKUP(F21,Sheet2!$A$5:$D$9,4,0)*COUNTIF($G$8:$I$8,"O") -> #N/A | T21: =VLOOKUP(F21,Sheet2!$A$5:$E$9,5,0)*COUNTIF($O$8:$P$8,"O") -> #N/A | W21: =VLOOKUP(J21,Sheet2!$A$5:$E$9,5,0)*COUNTIF($O$8:$P$8,"O") -> #N/A | AA21: =VLOOKUP(F21,Sheet2!$A$5:$H$10,8,0)*COUNTA(X21) -> #N/A | AB21: =N21+T21+AA21 -> #N/A
A22: 15 | N22: =VLOOKUP(F22,Sheet2!$A$5:$D$9,4,0)*COUNTIF($G$8:$I$8,"O") -> #N/A | T22: =VLOOKUP(F22,Sheet2!$A$5:$E$9,5,0)*COUNTIF($O$8:$P$8,"O") -> #N/A | W22: =VLOOKUP(J22,Sheet2!$A$5:$E$9,5,0)*COUNTIF($O$8:$P$8,"O") -> #N/A | AA22: =VLOOKUP(F22,Sheet2!$A$5:$H$10,8,0)*COUNTA(X22) -> #N/A | AB22: =N22+T22+AA22 -> #N/A
A23: 16 | N23: =VLOOKUP(F23,Sheet2!$A$5:$D$9,4,0)*COUNTIF($G$8:$I$8,"O") -> #N/A | T23: =VLOOKUP(F23,Sheet2!$A$5:$E$9,5,0)*COUNTIF($O$8:$P$8,"O") -> #N/A | W23: =VLOOKUP(J23,Sheet2!$A$5:$E$9,5,0)*COUNTIF($O$8:$P$8,"O") -> #N/A | AA23: =VLOOKUP(F23,Sheet2!$A$5:$H$10,8,0)*COUNTA(X23) -> #N/A | AB23: =N23+T23+AA23 -> #N/A
A24: 17 | N24: =VLOOKUP(F24,Sheet2!$A$5:$D$9,4,0)*COUNTIF($G$8:$I$8,"O") -> #N/A | T24: =VLOOKUP(F24,Sheet2!$A$5:$E$9,5,0)*COUNTIF($O$8:$P$8,"O") -> #N/A | W24: =VLOOKUP(J24,Sheet2!$A$5:$E$9,5,0)*COUNTIF($O$8:$P$8,"O") -> #N/A | AA24: =VLOOKUP(F24,Sheet2!$A$5:$H$10,8,0)*COUNTA(X24) -> #N/A | AB24: =N24+T24+AA24 -> #N/A
A25: 18 | N25: =VLOOKUP(F25,Sheet2!$A$5:$D$9,4,0)*COUNTIF($G$8:$I$8,"O") -> #N/A | T25: =VLOOKUP(F25,Sheet2!$A$5:$E$9,5,0)*COUNTIF($O$8:$P$8,"O") -> #N/A | W25: =VLOOKUP(J25,Sheet2!$A$5:$E$9,5,0)*COUNTIF($O$8:$P$8,"O") -> #N/A | AA25: =VLOOKUP(F25,Sheet2!$A$5:$H$10,8,0)*COUNTA(X25) -> #N/A | AB25: =N25+T25+AA25 -> #N/A
A26: 19 | N26: =VLOOKUP(F26,Sheet2!$A$5:$D$9,4,0)*COUNTIF($G$8:$I$8,"O") -> #N/A | T26: =VLOOKUP(F26,Sheet2!$A$5:$E$9,5,0)*COUNTIF($O$8:$P$8,"O") -> #N/A | W26: =VLOOKUP(J26,Sheet2!$A$5:$E$9,5,0)*COUNTIF($O$8:$P$8,"O") -> #N/A | AA26: =VLOOKUP(F26,Sheet2!$A$5:$H$10,8,0)*COUNTA(X26) -> #N/A | AB26: =N26+T26+AA26 -> #N/A
A27: 20 | N27: =VLOOKUP(F27,Sheet2!$A$5:$D$9,4,0)*COUNTIF($G$8:$I$8,"O") -> #N/A | T27: =VLOOKUP(F27,Sheet2!$A$5:$E$9,5,0)*COUNTIF($O$8:$P$8,"O") -> #N/A | W27: =VLOOKUP(J27,Sheet2!$A$5:$E$9,5,0)*COUNTIF($O$8:$P$8,"O") -> #N/A | AA27: =VLOOKUP(F27,Sheet2!$A$5:$H$10,8,0)*COUNTA(X27) -> #N/A | AB27: =N27+T27+AA27 -> #N/A
... A42: 35 | N42: =VLOOKUP(F42,Sheet2!$A$5:$D$9,4,0)*COUNTIF($G$8:$I$8,"O") -> #N/A | T42: =VLOOKUP(F42,Sheet2!$A$5:$E$9,5,0)*COUNTIF($O$8:$P$8,"O") -> #N/A | W42: =VLOOKUP(J42,Sheet2!$A$5:$E$9,5,0)*COUNTIF($O$8:$P$8,"O") -> #N/A | AA42: =VLOOKUP(F42,Sheet2!$A$5:$H$10,8,0)*COUNTA(X42) -> #N/A | AB42: =N42+T42+AA42 -> #N/A
A44: ▣ 식사제공사항
A45: 1. Workshop Part. I (A~E) 등록시 5월 29일(수) 석식(Reception) 제공
A46: 2. Workshop Part. II(D~H) 등록시 5월 30일(목) 중식 제공
A47: 3. 2024 춘계학술발표회 등록시 5.30(목) 석식(만찬) 제공

Sheet Sheet2
A1: 1 | B1: 2 | C1: 3 | D1: 4 | E1: 5 | F1: 6 | G1: 7 | H1: 8 | I1: 9 | J1: 10 | K1: 11
C2: Workshop A~E | E2: Workshop F~H | F2: Workshop I | H2: 춘계
H3: 사전 | I3: 일반 | J3: 참가유형 | K3: 등록유형
A4: 회원구분 | C4: 참석여부 | D4: 등록비 | E4: 등록비 | F4: 등록비 | G4: 참가유형 | H4: 등록비 | I4: 등록비 | L4: 식사여부 | M4: 만찬여부
A5: 평생/정회원A | C5: Y | D5: 100000 | E5: 70000 | F5: 0 | G5: 일반참가자 | H5: 150000 | I5: 200000 | J5: 논문발표자 | K5: 사전 | L5: O | M5: O
A6: 정회원B | C6: N | D6: 100000 | E6: 70000 | F6: 0 | G6: 주제발표자 | H6: 200000 | I6: 250000 | J6: 일반참가자 | K6: 일반 | L6: X | M6: X
A7: 학생회원 | D7: 80000 | E7: 50000 | F7: 0 | G7: 패널 | H7: 70000 | I7: 90000 | J7: 선택안함
A8: 비회원(일반) | D8: 100000 | E8: 70000 | F8: 0 | H8: 220000 | I8: 270000
A9: 비회원(학생) | D9: 80000 | E9: 50000 | F9: 0 | H9: 80000 | I9: 100000
